BEGIN:VCALENDAR
VERSION:2.0
PRODID:icalendar-ruby
CALSCALE:GREGORIAN
METHOD:PUBLISH
BEGIN:VEVENT
DTSTAMP:20260419T215654Z
UID:1037-2443409@lutheranvictoria.ca
DTSTART:20260602T020000Z
DTEND:20260602T040000Z
CLASS:PUBLIC
CREATED:20260415T150408
DESCRIPTION:
LAST-MODIFIED:20260415T150408
LOCATION:Upper Hall 
SUMMARY:Queer and Trans Choir Practice 
URL;VALUE=URI:https://www.lutheranvictoria.ca/events/queer-and-trans-choir-
 practice/2026-06-01
END:VEVENT
END:VCALENDAR
