BEGIN:VCALENDAR
VERSION:2.0
PRODID:icalendar-ruby
CALSCALE:GREGORIAN
METHOD:PUBLISH
BEGIN:VEVENT
DTSTAMP:20260422T101752Z
UID:1039-2456951@lutheranvictoria.ca
DTSTART:20260422T210000Z
DTEND:20260422T220000Z
CLASS:PUBLIC
CREATED:20260417T151821
DESCRIPTION:
LAST-MODIFIED:20260417T151821
LOCATION:Upper Hall\, Sanctuary 
SUMMARY:Funeral for Helene Walker
URL;VALUE=URI:https://www.lutheranvictoria.ca/events/funeral-for-helene-wal
 ker/2026-04-22
ATTACH;FILENAME=heleneWalker.jpg;FMTTYPE=image/jpeg:https://dq5pwpg1q8ru0.c
 loudfront.net/2026/04/17/22/17/44/0f14e458-c08d-4666-8017-36a8413261e5/hel
 eneWalker.jpg
END:VEVENT
END:VCALENDAR
