BEGIN:VCALENDAR
VERSION:2.0
PRODID:icalendar-ruby
CALSCALE:GREGORIAN
METHOD:PUBLISH
BEGIN:VEVENT
DTSTAMP:20260419T220201Z
UID:1038-2443416@lutheranvictoria.ca
DTSTART:20260512T020000Z
DTEND:20260512T040000Z
CLASS:PUBLIC
CREATED:20260415T150522
DESCRIPTION:
LAST-MODIFIED:20260415T150522
LOCATION:Upper Hall 
SUMMARY:drop in choir/choir workshop
URL;VALUE=URI:https://www.lutheranvictoria.ca/events/drop-in-choir-choir-wo
 rkshop/2026-05-11
END:VEVENT
END:VCALENDAR
